BEGIN:VCALENDAR
VERSION:2.0
PRODID:-//Fundacja Lubię to - ECPv6.5.1.4//NONSGML v1.0//EN
CALSCALE:GREGORIAN
METHOD:PUBLISH
X-WR-CALNAME:Fundacja Lubię to
X-ORIGINAL-URL:https://fundacjalubieto.org
X-WR-CALDESC:Events for Fundacja Lubię to
REFRESH-INTERVAL;VALUE=DURATION:PT1H
X-Robots-Tag:noindex
X-PUBLISHED-TTL:PT1H
BEGIN:VTIMEZONE
TZID:Europe/Warsaw
BEGIN:DAYLIGHT
TZOFFSETFROM:+0100
TZOFFSETTO:+0200
TZNAME:CEST
DTSTART:20240331T010000
END:DAYLIGHT
BEGIN:STANDARD
TZOFFSETFROM:+0200
TZOFFSETTO:+0100
TZNAME:CET
DTSTART:20241027T010000
END:STANDARD
END:VTIMEZONE
BEGIN:VEVENT
DTSTART;TZID=Europe/Warsaw:20240418T180000
DTEND;TZID=Europe/Warsaw:20240418T210000
DTSTAMP:20260425T133909
CREATED:20240311T173332Z
LAST-MODIFIED:20240311T175854Z
UID:6234-1713463200-1713474000@fundacjalubieto.org
SUMMARY:Kolacja Biznesowa - Wspieramy Biznes w Polsce
DESCRIPTION:Zapraszamy na V edycję\, kolacji biznesowej\n“WSPIERAMY BIZNES W POLSCE”\nTym razem spotkamy się w Miszewku na trasie Gdynia-Żukowo w Restauracji Wołowina House.\nPodczas eventu zaprezentujemy naszych nowych partnerów oraz rozwój platformy networkingowej.\nAtrakcje wieczoru to:\n– Degustacja wołowiny\, którą będzie komentował szef kuchni.\nPrzystawka – wołowina polska\nDanie główne – steki z wołowiny amerykańskiej.\nDeser – Fondant czekoladowy\nDegustacja wina.\nNapoje…\n– Prezentacja platforma zakupowej jaką stworzyła fundacja.\n– Drugiej edycji książeczki edukacyjna dla dzieci jako czekadełko do restauracji.\n– Przedstawienie każdego uczestnika.\nDbamy o zaproszonych gości\, stwarzając dobrą atmosferę\, licytację na cele statutowe fundacji\, sesję fotograficzną\, wideo oraz networking.\nOrganizowana przez nas kolacja to niepowtarzalna okazja do budowania relacji biznesowych. Podczas sesji networkingowych poznasz ciekawych ekspertów\, partnerów oraz potencjalnych klientów.\nBusiness- Networking. Umożliwiamy dostęp do nowych rynków.\nProwadzisz firmę i chcesz się szerzej zaprezentować zapraszamy do rozmowy.\nDochód z kolacji przeznaczony jest na cele statutowe fundacji. \nOrganizatorem jest  Fundacja Lubię To oraz Gastronom Wybrzeża.\nUwaga ograniczona ilość miejsc – 30 osób.\nDecyduje kolejność wpłat na konto fundacji:\nPKO BP 54 1020 1811 0000 0802 0366 4935\nCegiełka w kwocie 280 PLN od osoby.\nTytuł – darowizna imię i nazwisko\nMożesz zapłacić z konta firmowego otrzymasz od nas na to rachunek.
URL:https://fundacjalubieto.org/event/kolacja-biznesowa-wspieramy-biznes-w-polsce-2/
LOCATION:Wołowina House\, ul. Gdyńska 15\, Miszewko\, pomorskie\, Poland
ATTACH;FMTTYPE=image/png:https://fundacjalubieto.org/wp-content/uploads/2024/03/ZAPRASZAMY-NA-EVENT-1.png
ORGANIZER;CN="Fundacja Lubi%C4%99 TO":MAILTO:fundacjalubieto@gmail.com
END:VEVENT
END:VCALENDAR